BEGIN:VCALENDAR
VERSION:2.0
PRODID:-//WIKF Belgium - ECPv6.15.19//NONSGML v1.0//EN
CALSCALE:GREGORIAN
METHOD:PUBLISH
X-ORIGINAL-URL:https://www.wikf.be
X-WR-CALDESC:Evenementen voor WIKF Belgium
REFRESH-INTERVAL;VALUE=DURATION:PT1H
X-Robots-Tag:noindex
X-PUBLISHED-TTL:PT1H
BEGIN:VTIMEZONE
TZID:Europe/Brussels
BEGIN:DAYLIGHT
TZOFFSETFROM:+0100
TZOFFSETTO:+0200
TZNAME:CEST
DTSTART:20250330T010000
END:DAYLIGHT
BEGIN:STANDARD
TZOFFSETFROM:+0200
TZOFFSETTO:+0100
TZNAME:CET
DTSTART:20251026T010000
END:STANDARD
BEGIN:DAYLIGHT
TZOFFSETFROM:+0100
TZOFFSETTO:+0200
TZNAME:CEST
DTSTART:20260329T010000
END:DAYLIGHT
BEGIN:STANDARD
TZOFFSETFROM:+0200
TZOFFSETTO:+0100
TZNAME:CET
DTSTART:20261025T010000
END:STANDARD
BEGIN:DAYLIGHT
TZOFFSETFROM:+0100
TZOFFSETTO:+0200
TZNAME:CEST
DTSTART:20270328T010000
END:DAYLIGHT
BEGIN:STANDARD
TZOFFSETFROM:+0200
TZOFFSETTO:+0100
TZNAME:CET
DTSTART:20271031T010000
END:STANDARD
END:VTIMEZONE
BEGIN:VEVENT
DTSTART;TZID=Europe/Brussels:20260201T100000
DTEND;TZID=Europe/Brussels:20260201T120000
DTSTAMP:20260425T141840
CREATED:20251003T142631Z
LAST-MODIFIED:20260105T130341Z
UID:1148-1769940000-1769947200@www.wikf.be
SUMMARY:Kumite Gata (datum veranderd)
DESCRIPTION:
URL:https://www.wikf.be/event/kumite-gata-3/
LOCATION:Sporthal Lubbeek\, Gellenberg 14\, Lubbeek\, 3210
CATEGORIES:FR,NL
END:VEVENT
BEGIN:VEVENT
DTSTART;TZID=Europe/Brussels:20260207T100000
DTEND;TZID=Europe/Brussels:20260207T113000
DTSTAMP:20260425T141840
CREATED:20251207T122000Z
LAST-MODIFIED:20251207T122000Z
UID:1211-1770458400-1770463800@www.wikf.be
SUMMARY:Examentraining (zonder partner)
DESCRIPTION:
URL:https://www.wikf.be/event/examentraining-zonder-partner-2/
LOCATION:Honbu Dojo: sporthal De Kimpel\, Eikenlaan 25\, Bilzen\, 3740
END:VEVENT
BEGIN:VEVENT
DTSTART;TZID=Europe/Brussels:20260208T130000
DTEND;TZID=Europe/Brussels:20260208T170000
DTSTAMP:20260425T141840
CREATED:20260105T164705Z
LAST-MODIFIED:20260105T164705Z
UID:1261-1770555600-1770570000@www.wikf.be
SUMMARY:KCAR Kata Cup
DESCRIPTION:
URL:https://www.wikf.be/event/kcar-kata-cup-2/
LOCATION:Sporthal De Bemvoort\, Jeugdlaan 8\, Pelt\, 3900
END:VEVENT
BEGIN:VEVENT
DTSTART;TZID=Europe/Brussels:20260214T100000
DTEND;TZID=Europe/Brussels:20260214T113000
DTSTAMP:20260425T141840
CREATED:20251207T122050Z
LAST-MODIFIED:20251207T122050Z
UID:1213-1771063200-1771068600@www.wikf.be
SUMMARY:Examentraining (met partner)
DESCRIPTION:
URL:https://www.wikf.be/event/examentraining-met-partner-3/
LOCATION:Honbu Dojo: sporthal De Kimpel\, Eikenlaan 25\, Bilzen\, 3740
END:VEVENT
BEGIN:VEVENT
DTSTART;TZID=Europe/Brussels:20260225T183000
DTEND;TZID=Europe/Brussels:20260225T203000
DTSTAMP:20260425T141840
CREATED:20251003T142756Z
LAST-MODIFIED:20260105T140651Z
UID:1150-1772044200-1772051400@www.wikf.be
SUMMARY:Kumite Gata
DESCRIPTION:
URL:https://www.wikf.be/event/kumite-gata-4/
LOCATION:Sporthal Zoutleeuw\, Sint-Truidensesteenweg 1a\, Zoutleeuw\, 3440\, Belgium
CATEGORIES:FR,NL
END:VEVENT
BEGIN:VEVENT
DTSTART;TZID=Europe/Brussels:20260228T100000
DTEND;TZID=Europe/Brussels:20260228T113000
DTSTAMP:20260425T141840
CREATED:20251207T122145Z
LAST-MODIFIED:20251207T122145Z
UID:1215-1772272800-1772278200@www.wikf.be
SUMMARY:Examentraining (met partner)
DESCRIPTION:
URL:https://www.wikf.be/event/examentraining-met-partner-4/
LOCATION:Honbu Dojo: sporthal De Kimpel\, Eikenlaan 25\, Bilzen\, 3740
END:VEVENT
END:VCALENDAR