BEGIN:VCALENDAR
VERSION:2.0
PRODID:-//WIKF Belgium - ECPv6.15.19//NONSGML v1.0//EN
CALSCALE:GREGORIAN
METHOD:PUBLISH
X-ORIGINAL-URL:https://www.wikf.be
X-WR-CALDESC:Evenementen voor WIKF Belgium
REFRESH-INTERVAL;VALUE=DURATION:PT1H
X-Robots-Tag:noindex
X-PUBLISHED-TTL:PT1H
BEGIN:VTIMEZONE
TZID:Europe/Brussels
BEGIN:DAYLIGHT
TZOFFSETFROM:+0100
TZOFFSETTO:+0200
TZNAME:CEST
DTSTART:20250330T010000
END:DAYLIGHT
BEGIN:STANDARD
TZOFFSETFROM:+0200
TZOFFSETTO:+0100
TZNAME:CET
DTSTART:20251026T010000
END:STANDARD
BEGIN:DAYLIGHT
TZOFFSETFROM:+0100
TZOFFSETTO:+0200
TZNAME:CEST
DTSTART:20260329T010000
END:DAYLIGHT
BEGIN:STANDARD
TZOFFSETFROM:+0200
TZOFFSETTO:+0100
TZNAME:CET
DTSTART:20261025T010000
END:STANDARD
BEGIN:DAYLIGHT
TZOFFSETFROM:+0100
TZOFFSETTO:+0200
TZNAME:CEST
DTSTART:20270328T010000
END:DAYLIGHT
BEGIN:STANDARD
TZOFFSETFROM:+0200
TZOFFSETTO:+0100
TZNAME:CET
DTSTART:20271031T010000
END:STANDARD
END:VTIMEZONE
BEGIN:VEVENT
DTSTART;TZID=Europe/Brussels:20260107T183000
DTEND;TZID=Europe/Brussels:20260107T203000
DTSTAMP:20260425T140955
CREATED:20251003T142250Z
LAST-MODIFIED:20260105T125805Z
UID:1143-1767810600-1767817800@www.wikf.be
SUMMARY:Kumite Gata
DESCRIPTION:
URL:https://www.wikf.be/event/kumite-gata-2/
LOCATION:Sporthal Zoutleeuw\, Sint-Truidensesteenweg 1a\, Zoutleeuw\, 3440\, Belgium
CATEGORIES:FR,NL
END:VEVENT
BEGIN:VEVENT
DTSTART;TZID=Europe/Brussels:20260110T100000
DTEND;TZID=Europe/Brussels:20260110T113000
DTSTAMP:20260425T140955
CREATED:20251207T121635Z
LAST-MODIFIED:20251207T121635Z
UID:1205-1768039200-1768044600@www.wikf.be
SUMMARY:Examentraining (met partner)
DESCRIPTION:
URL:https://www.wikf.be/event/examentraining-met-partner/
LOCATION:Honbu Dojo: sporthal De Kimpel\, Eikenlaan 25\, Bilzen\, 3740
END:VEVENT
BEGIN:VEVENT
DTSTART;VALUE=DATE:20260117
DTEND;VALUE=DATE:20260118
DTSTAMP:20260425T140956
CREATED:20251207T123209Z
LAST-MODIFIED:20251207T123209Z
UID:1237-1768608000-1768694399@www.wikf.be
SUMMARY:Open Limburgse WIKF Stage
DESCRIPTION:
URL:https://www.wikf.be/event/open-limburgse-wikf-stage/
END:VEVENT
BEGIN:VEVENT
DTSTART;VALUE=DATE:20260118
DTEND;VALUE=DATE:20260119
DTSTAMP:20260425T140956
CREATED:20251223T183650Z
LAST-MODIFIED:20251223T183650Z
UID:1249-1768694400-1768780799@www.wikf.be
SUMMARY:Tomodachi Cup
DESCRIPTION:
URL:https://www.wikf.be/event/tomodachi-cup/
END:VEVENT
BEGIN:VEVENT
DTSTART;TZID=Europe/Brussels:20260122T183000
DTEND;TZID=Europe/Brussels:20260122T200000
DTSTAMP:20260425T140956
CREATED:20251003T142501Z
LAST-MODIFIED:20260105T130052Z
UID:1146-1769106600-1769112000@www.wikf.be
SUMMARY:Kumite Kata
DESCRIPTION:
URL:https://www.wikf.be/event/kumite-kata/
LOCATION:Bierbeek sporthal De Borre\, Speelpleinstraat 10\, Bierbeek\, Belgium
CATEGORIES:FR,NL
END:VEVENT
BEGIN:VEVENT
DTSTART;TZID=Europe/Brussels:20260124T100000
DTEND;TZID=Europe/Brussels:20260124T113000
DTSTAMP:20260425T140956
CREATED:20251207T121753Z
LAST-MODIFIED:20251207T121753Z
UID:1207-1769248800-1769254200@www.wikf.be
SUMMARY:Examentraining (zonder partner)
DESCRIPTION:
URL:https://www.wikf.be/event/examentraining-zonder-partner/
LOCATION:Honbu Dojo: sporthal De Kimpel\, Eikenlaan 25\, Bilzen\, 3740
END:VEVENT
BEGIN:VEVENT
DTSTART;TZID=Europe/Brussels:20260131T100000
DTEND;TZID=Europe/Brussels:20260131T113000
DTSTAMP:20260425T140956
CREATED:20251207T121846Z
LAST-MODIFIED:20251207T121846Z
UID:1209-1769853600-1769859000@www.wikf.be
SUMMARY:Examentraining (met partner)
DESCRIPTION:
URL:https://www.wikf.be/event/examentraining-met-partner-2/
LOCATION:Honbu Dojo: sporthal De Kimpel\, Eikenlaan 25\, Bilzen\, 3740
END:VEVENT
BEGIN:VEVENT
DTSTART;TZID=Europe/Brussels:20260131T140000
DTEND;TZID=Europe/Brussels:20260131T170000
DTSTAMP:20260425T140956
CREATED:20250422T095102Z
LAST-MODIFIED:20250922T184306Z
UID:1126-1769868000-1769878800@www.wikf.be
SUMMARY:Nationale WIKF-training
DESCRIPTION:Entraînement national WIKF (kata\, kumite\, tanto dori)
URL:https://www.wikf.be/event/nationale-wikf-training-3/
END:VEVENT
END:VCALENDAR