BEGIN:VCALENDAR
VERSION:2.0
PRODID:-//WIKF Belgium - ECPv6.15.19//NONSGML v1.0//EN
CALSCALE:GREGORIAN
METHOD:PUBLISH
X-WR-CALNAME:WIKF Belgium
X-ORIGINAL-URL:https://www.wikf.be
X-WR-CALDESC:Evenementen voor WIKF Belgium
REFRESH-INTERVAL;VALUE=DURATION:PT1H
X-Robots-Tag:noindex
X-PUBLISHED-TTL:PT1H
BEGIN:VTIMEZONE
TZID:Europe/Brussels
BEGIN:DAYLIGHT
TZOFFSETFROM:+0100
TZOFFSETTO:+0200
TZNAME:CEST
DTSTART:20230326T010000
END:DAYLIGHT
BEGIN:STANDARD
TZOFFSETFROM:+0200
TZOFFSETTO:+0100
TZNAME:CET
DTSTART:20231029T010000
END:STANDARD
BEGIN:DAYLIGHT
TZOFFSETFROM:+0100
TZOFFSETTO:+0200
TZNAME:CEST
DTSTART:20240331T010000
END:DAYLIGHT
BEGIN:STANDARD
TZOFFSETFROM:+0200
TZOFFSETTO:+0100
TZNAME:CET
DTSTART:20241027T010000
END:STANDARD
BEGIN:DAYLIGHT
TZOFFSETFROM:+0100
TZOFFSETTO:+0200
TZNAME:CEST
DTSTART:20250330T010000
END:DAYLIGHT
BEGIN:STANDARD
TZOFFSETFROM:+0200
TZOFFSETTO:+0100
TZNAME:CET
DTSTART:20251026T010000
END:STANDARD
BEGIN:DAYLIGHT
TZOFFSETFROM:+0100
TZOFFSETTO:+0200
TZNAME:CEST
DTSTART:20260329T010000
END:DAYLIGHT
BEGIN:STANDARD
TZOFFSETFROM:+0200
TZOFFSETTO:+0100
TZNAME:CET
DTSTART:20261025T010000
END:STANDARD
END:VTIMEZONE
BEGIN:VEVENT
DTSTART;TZID=Europe/Brussels:20250208T100000
DTEND;TZID=Europe/Brussels:20250208T113000
DTSTAMP:20260422T032415
CREATED:20241124T144941Z
LAST-MODIFIED:20241218T092728Z
UID:785-1739008800-1739014200@www.wikf.be
SUMMARY:Examentraining (met partners)
DESCRIPTION:Entraînement pour les examens (avec partenaire)
URL:https://www.wikf.be/event/training-voor-dangraden-2/
LOCATION:Honbu Dojo: sporthal De Kimpel\, Eikenlaan 25\, Bilzen\, 3740
END:VEVENT
BEGIN:VEVENT
DTSTART;TZID=Europe/Brussels:20250201T100000
DTEND;TZID=Europe/Brussels:20250201T113000
DTSTAMP:20260422T032415
CREATED:20241124T144722Z
LAST-MODIFIED:20241124T144722Z
UID:781-1738404000-1738409400@www.wikf.be
SUMMARY:Examentraining (met partners)
DESCRIPTION:Entraînement pour les examens (avec partenaire)
URL:https://www.wikf.be/event/examentraining-met-partners-4/
LOCATION:Honbu Dojo: sporthal De Kimpel\, Eikenlaan 25\, Bilzen\, 3740
END:VEVENT
BEGIN:VEVENT
DTSTART;TZID=Europe/Brussels:20250125T103000
DTEND;TZID=Europe/Brussels:20250125T173000
DTSTAMP:20260422T032415
CREATED:20241026T095340Z
LAST-MODIFIED:20241113T135225Z
UID:91-1737801000-1737826200@www.wikf.be
SUMMARY:Open Limburgse WIKF-stage (Sint-Truiden)
DESCRIPTION:Open stage de WIKF Limbourg (Sint-Truiden)
URL:https://www.wikf.be/event/open-limburgse-wikf-stage-sint-truiden/
LOCATION:Lago Club Sint-Truiden\, Olympialaan 10\, Sint-Truiden\, 3800
END:VEVENT
BEGIN:VEVENT
DTSTART;TZID=Europe/Brussels:20250120T200000
DTEND;TZID=Europe/Brussels:20250120T220000
DTSTAMP:20260422T032415
CREATED:20241222T183515Z
LAST-MODIFIED:20241222T185046Z
UID:1022-1737403200-1737410400@www.wikf.be
SUMMARY:Training kumite gata
DESCRIPTION:
URL:https://www.wikf.be/event/training-kumite-gata-6/
LOCATION:sporthal Haacht\, Sporthal Den Box\, Dijkstraat 1\, Haacht\, Belgium
END:VEVENT
BEGIN:VEVENT
DTSTART;VALUE=DATE:20250119
DTEND;VALUE=DATE:20250120
DTSTAMP:20260422T032415
CREATED:20241026T095233Z
LAST-MODIFIED:20241111T204504Z
UID:89-1737244800-1737331199@www.wikf.be
SUMMARY:Tomodachi Cup - kumite
DESCRIPTION:
URL:https://www.wikf.be/event/tomodachi-cup-kumite/
LOCATION:Sporthal De Passant\, Sint-Truidensesteenweg 1\, Zoutleeuw\, 3440
END:VEVENT
BEGIN:VEVENT
DTSTART;TZID=Europe/Brussels:20250118T100000
DTEND;TZID=Europe/Brussels:20250118T113000
DTSTAMP:20260422T032415
CREATED:20241124T143925Z
LAST-MODIFIED:20241124T143925Z
UID:779-1737194400-1737199800@www.wikf.be
SUMMARY:Examentraining (zonder partners)
DESCRIPTION:Entraînement pour les examens (sans partenaire)
URL:https://www.wikf.be/event/examentraining-zonder-partners-3/
LOCATION:Honbu Dojo: sporthal De Kimpel\, Eikenlaan 25\, Bilzen\, 3740
END:VEVENT
BEGIN:VEVENT
DTSTART;TZID=Europe/Brussels:20250111T140000
DTEND;TZID=Europe/Brussels:20250111T163000
DTSTAMP:20260422T032415
CREATED:20241107T170424Z
LAST-MODIFIED:20241111T204235Z
UID:331-1736604000-1736613000@www.wikf.be
SUMMARY:Nationale WIKF-kumitetraining
DESCRIPTION:Entraînement nationale WIKF kumite
URL:https://www.wikf.be/event/nationale-wikf-kumitetraining-2/
LOCATION:Sporthal Eksel\, Dennenstraat 8\, Hechtel-Eksel\, 3940
END:VEVENT
BEGIN:VEVENT
DTSTART;TZID=Europe/Brussels:20250111T100000
DTEND;TZID=Europe/Brussels:20250111T113000
DTSTAMP:20260422T032415
CREATED:20241124T143817Z
LAST-MODIFIED:20241124T143817Z
UID:777-1736589600-1736595000@www.wikf.be
SUMMARY:Examentraining (met partners)
DESCRIPTION:Entraînement pour les examens (avec partenaire)
URL:https://www.wikf.be/event/examentraining-met-partners-3/
LOCATION:Honbu Dojo: sporthal De Kimpel\, Eikenlaan 25\, Bilzen\, 3740
END:VEVENT
BEGIN:VEVENT
DTSTART;TZID=Europe/Brussels:20250104T100000
DTEND;TZID=Europe/Brussels:20250104T113000
DTSTAMP:20260422T032415
CREATED:20241124T143656Z
LAST-MODIFIED:20241124T143656Z
UID:775-1735984800-1735990200@www.wikf.be
SUMMARY:Examentraining (zonder partners)
DESCRIPTION:Entraînement pour les examens (sans partenaire)
URL:https://www.wikf.be/event/examentraining-zonder-partners/
LOCATION:Honbu Dojo: sporthal De Kimpel\, Eikenlaan 25\, Bilzen\, 3740
END:VEVENT
BEGIN:VEVENT
DTSTART;TZID=Europe/Brussels:20241219T183000
DTEND;TZID=Europe/Brussels:20241219T200000
DTSTAMP:20260422T032415
CREATED:20241118T103608Z
LAST-MODIFIED:20241118T103711Z
UID:725-1734633000-1734638400@www.wikf.be
SUMMARY:Training kumite gata
DESCRIPTION:Entraînement kumite gata
URL:https://www.wikf.be/event/training-kumite-gata-3/
LOCATION:Sporthal De Borre\, Speelpleinstraat 10\, Bierbeek\, 3360
END:VEVENT
BEGIN:VEVENT
DTSTART;TZID=Europe/Brussels:20241214T100000
DTEND;TZID=Europe/Brussels:20241214T113000
DTSTAMP:20260422T032415
CREATED:20241026T094851Z
LAST-MODIFIED:20241111T204205Z
UID:84-1734170400-1734175800@www.wikf.be
SUMMARY:Examentraining (met partners)
DESCRIPTION:Entraînement pour les examens (avec partenaire)
URL:https://www.wikf.be/event/examentraining-met-partners-2/
LOCATION:Honbu Dojo: sporthal De Kimpel\, Eikenlaan 25\, Bilzen\, 3740
END:VEVENT
BEGIN:VEVENT
DTSTART;TZID=Europe/Brussels:20241208T100000
DTEND;TZID=Europe/Brussels:20241208T120000
DTSTAMP:20260422T032415
CREATED:20241118T103410Z
LAST-MODIFIED:20241118T103732Z
UID:722-1733652000-1733659200@www.wikf.be
SUMMARY:Training kumite gata
DESCRIPTION:Entraînement kumite gata
URL:https://www.wikf.be/event/training-kumite-gata-2/
LOCATION:Sporthal Lubbeek\, Gellenberg 14\, Lubbeek\, 3210
END:VEVENT
BEGIN:VEVENT
DTSTART;TZID=Europe/Brussels:20241207T100000
DTEND;TZID=Europe/Brussels:20241207T120000
DTSTAMP:20260422T032415
CREATED:20241026T095038Z
LAST-MODIFIED:20241111T204143Z
UID:87-1733565600-1733572800@www.wikf.be
SUMMARY:Training voor dangraden
DESCRIPTION:Entraînement pour les grades Dan
URL:https://www.wikf.be/event/training-voor-dangraden/
LOCATION:Sporthal Den Dijk\, Dijkstraat 1\, Haacht\, 3150
END:VEVENT
BEGIN:VEVENT
DTSTART;TZID=Europe/Brussels:20241130T100000
DTEND;TZID=Europe/Brussels:20241130T113000
DTSTAMP:20260422T032415
CREATED:20241026T094809Z
LAST-MODIFIED:20241111T204115Z
UID:82-1732960800-1732966200@www.wikf.be
SUMMARY:Examentraining (zonder partners)
DESCRIPTION:Entraînement pour les examens (sans partenaire)
URL:https://www.wikf.be/event/examentraining-zonder-partners-2/
LOCATION:Honbu Dojo: sporthal De Kimpel\, Eikenlaan 25\, Bilzen\, 3740
END:VEVENT
BEGIN:VEVENT
DTSTART;TZID=Europe/Brussels:20241125T200000
DTEND;TZID=Europe/Brussels:20241125T220000
DTSTAMP:20260422T032415
CREATED:20241118T102826Z
LAST-MODIFIED:20241118T102826Z
UID:714-1732564800-1732572000@www.wikf.be
SUMMARY:Training kumite gata
DESCRIPTION:Entraînement kumite gata
URL:https://www.wikf.be/event/training-kumite-gata/
LOCATION:Sporthal Den Box\, Dijkstraat 1\, Haacht\, 3150
END:VEVENT
BEGIN:VEVENT
DTSTART;TZID=Europe/Brussels:20241123T140000
DTEND;TZID=Europe/Brussels:20241123T163000
DTSTAMP:20260422T032415
CREATED:20241107T170323Z
LAST-MODIFIED:20241111T204052Z
UID:329-1732370400-1732379400@www.wikf.be
SUMMARY:Nationale WIKF-kumitetraining
DESCRIPTION:Entraînement nationale WIKF kumite
URL:https://www.wikf.be/event/nationale-wikf-kumitetraining/
LOCATION:Sporthal Eksel\, Dennenstraat 8\, Hechtel-Eksel\, 3940
END:VEVENT
BEGIN:VEVENT
DTSTART;TZID=Europe/Brussels:20241123T100000
DTEND;TZID=Europe/Brussels:20241123T113000
DTSTAMP:20260422T032415
CREATED:20241026T094611Z
LAST-MODIFIED:20241111T204009Z
UID:80-1732356000-1732361400@www.wikf.be
SUMMARY:Examentraining (met partners)
DESCRIPTION:Entraînement pour les examens (avec partenaire)
URL:https://www.wikf.be/event/examentraining-met-partners/
LOCATION:Honbu Dojo: sporthal De Kimpel\, Eikenlaan 25\, Bilzen\, 3740
END:VEVENT
BEGIN:VEVENT
DTSTART;TZID=Europe/Brussels:20241116T123000
DTEND;TZID=Europe/Brussels:20241116T170000
DTSTAMP:20260422T032415
CREATED:20241026T091513Z
LAST-MODIFIED:20241111T202128Z
UID:66-1731760200-1731776400@www.wikf.be
SUMMARY:Beker van Kortenberg
DESCRIPTION:
URL:https://www.wikf.be/event/beker-van-kortenberg/
LOCATION:Sporthal Kortenberg\, Wijngaardstraat 1\, Kortenberg\, 3070
END:VEVENT
END:VCALENDAR