BEGIN:VCALENDAR
VERSION:2.0
PRODID:-//WIKF Belgium - ECPv6.15.19//NONSGML v1.0//EN
CALSCALE:GREGORIAN
METHOD:PUBLISH
X-WR-CALNAME:WIKF Belgium
X-ORIGINAL-URL:https://www.wikf.be
X-WR-CALDESC:Evenementen voor WIKF Belgium
REFRESH-INTERVAL;VALUE=DURATION:PT1H
X-Robots-Tag:noindex
X-PUBLISHED-TTL:PT1H
BEGIN:VTIMEZONE
TZID:Europe/Brussels
BEGIN:DAYLIGHT
TZOFFSETFROM:+0100
TZOFFSETTO:+0200
TZNAME:CEST
DTSTART:20240331T010000
END:DAYLIGHT
BEGIN:STANDARD
TZOFFSETFROM:+0200
TZOFFSETTO:+0100
TZNAME:CET
DTSTART:20241027T010000
END:STANDARD
BEGIN:DAYLIGHT
TZOFFSETFROM:+0100
TZOFFSETTO:+0200
TZNAME:CEST
DTSTART:20250330T010000
END:DAYLIGHT
BEGIN:STANDARD
TZOFFSETFROM:+0200
TZOFFSETTO:+0100
TZNAME:CET
DTSTART:20251026T010000
END:STANDARD
BEGIN:DAYLIGHT
TZOFFSETFROM:+0100
TZOFFSETTO:+0200
TZNAME:CEST
DTSTART:20260329T010000
END:DAYLIGHT
BEGIN:STANDARD
TZOFFSETFROM:+0200
TZOFFSETTO:+0100
TZNAME:CET
DTSTART:20261025T010000
END:STANDARD
END:VTIMEZONE
BEGIN:VEVENT
DTSTART;TZID=Europe/Brussels:20251129T100000
DTEND;TZID=Europe/Brussels:20251129T113000
DTSTAMP:20260421T184438
CREATED:20250328T125801Z
LAST-MODIFIED:20250328T125801Z
UID:1111-1764410400-1764415800@www.wikf.be
SUMMARY:Examentraining (zonder partners)
DESCRIPTION:Entraînement pour les examens (sans partenaire)
URL:https://www.wikf.be/event/examentraining-zonder-partners-13/
LOCATION:Honbu Dojo: sporthal De Kimpel\, Eikenlaan 25\, Bilzen\, 3740
END:VEVENT
BEGIN:VEVENT
DTSTART;VALUE=DATE:20251121
DTEND;VALUE=DATE:20251124
DTSTAMP:20260421T184438
CREATED:20250325T145913Z
LAST-MODIFIED:20251111T194857Z
UID:1090-1763683200-1763942399@www.wikf.be
SUMMARY:WIKF-stage Jon Wicks
DESCRIPTION:Stage WIKF avec Jon Wicks
URL:https://www.wikf.be/event/wikf-stage-jon-wicks/
LOCATION:Honbu Dojo: sporthal De Kimpel\, Eikenlaan 25\, Bilzen\, 3740
END:VEVENT
BEGIN:VEVENT
DTSTART;TZID=Europe/Brussels:20251116T093000
DTEND;TZID=Europe/Brussels:20251116T113000
DTSTAMP:20260421T184438
CREATED:20251003T134050Z
LAST-MODIFIED:20251003T143058Z
UID:1135-1763285400-1763292600@www.wikf.be
SUMMARY:Kumite Gata training
DESCRIPTION:
URL:https://www.wikf.be/event/kumite-gata-training/
LOCATION:Sporthal Kortenberg\, Wijngaardstraat 1\, Kortenberg\, 3070
CATEGORIES:FR,NL
END:VEVENT
BEGIN:VEVENT
DTSTART;TZID=Europe/Brussels:20251115T100000
DTEND;TZID=Europe/Brussels:20251115T113000
DTSTAMP:20260421T184438
CREATED:20250328T130547Z
LAST-MODIFIED:20250328T153630Z
UID:1117-1763200800-1763206200@www.wikf.be
SUMMARY:Laatste examentraining (met partners)\, alleen voor examenkandidaten
DESCRIPTION:Dernier entraînement pour les examens (avec partenaire) – réservée aux candidats à l’examen
URL:https://www.wikf.be/event/laatste-training-examentraing-met-partners-alleen-voor-examenkandidaten/
LOCATION:Honbu Dojo: sporthal De Kimpel\, Eikenlaan 25\, Bilzen\, 3740
CATEGORIES:FR,NL
END:VEVENT
BEGIN:VEVENT
DTSTART;TZID=Europe/Brussels:20251108T100000
DTEND;TZID=Europe/Brussels:20251108T113000
DTSTAMP:20260421T184438
CREATED:20250328T125700Z
LAST-MODIFIED:20251104T194730Z
UID:1109-1762596000-1762601400@www.wikf.be
SUMMARY:Examentraining (met partners)
DESCRIPTION:Entraînement pour les examens (avec partenaire)
URL:https://www.wikf.be/event/examentraining-zonder-partners-12/
LOCATION:Honbu Dojo: sporthal De Kimpel\, Eikenlaan 25\, Bilzen\, 3740
CATEGORIES:FR,NL
END:VEVENT
BEGIN:VEVENT
DTSTART;TZID=Europe/Brussels:20251025T100000
DTEND;TZID=Europe/Brussels:20251025T113000
DTSTAMP:20260421T184438
CREATED:20250328T130350Z
LAST-MODIFIED:20250328T153742Z
UID:1115-1761386400-1761391800@www.wikf.be
SUMMARY:Examentraining (met partners)\, alleen voor examenkandidaten
DESCRIPTION:Entraînement pour les examens (avec partenaire) – réservée aux candidats à l’examen
URL:https://www.wikf.be/event/examentraining-met-partners-alleen-voor-examenkandidaten/
LOCATION:Honbu Dojo: sporthal De Kimpel\, Eikenlaan 25\, Bilzen\, 3740
CATEGORIES:FR,NL
END:VEVENT
BEGIN:VEVENT
DTSTART;VALUE=DATE:20251019
DTEND;VALUE=DATE:20251020
DTSTAMP:20260421T184438
CREATED:20250302T162954Z
LAST-MODIFIED:20250302T162954Z
UID:1059-1760832000-1760918399@www.wikf.be
SUMMARY:Belgisch Kampioenschap WIKF
DESCRIPTION:Championnat WIKF de Belgique
URL:https://www.wikf.be/event/belgisch-kampioenschap-wikf/
LOCATION:Sporthal De Passant\, Sint-Truidensesteenweg 1\, Zoutleeuw\, 3440
END:VEVENT
BEGIN:VEVENT
DTSTART;TZID=Europe/Brussels:20251018T100000
DTEND;TZID=Europe/Brussels:20251018T113000
DTSTAMP:20260421T184438
CREATED:20250328T125128Z
LAST-MODIFIED:20250328T125128Z
UID:1101-1760781600-1760787000@www.wikf.be
SUMMARY:Examentraining (met partners)
DESCRIPTION:Entraînement pour les examens (avec partenaire)
URL:https://www.wikf.be/event/examentraining-met-partners-11/
LOCATION:Honbu Dojo: sporthal De Kimpel\, Eikenlaan 25\, Bilzen\, 3740
CATEGORIES:FR,NL
END:VEVENT
BEGIN:VEVENT
DTSTART;VALUE=DATE:20251011
DTEND;VALUE=DATE:20251012
DTSTAMP:20260421T184438
CREATED:20250325T145625Z
LAST-MODIFIED:20250325T145625Z
UID:1087-1760140800-1760227199@www.wikf.be
SUMMARY:Beker van Kortenberg
DESCRIPTION:Coupe de Kortenberg
URL:https://www.wikf.be/event/beker-van-kortenberg-2/
LOCATION:Sporthal Kortenberg\, Wijngaardstraat 1\, Kortenberg\, 3070
END:VEVENT
BEGIN:VEVENT
DTSTART;TZID=Europe/Brussels:20251004T100000
DTEND;TZID=Europe/Brussels:20251004T113000
DTSTAMP:20260421T184438
CREATED:20250328T125554Z
LAST-MODIFIED:20250328T125554Z
UID:1107-1759572000-1759577400@www.wikf.be
SUMMARY:Examentraining (zonder partners)
DESCRIPTION:Entraînement pour les examens (sans partenaire)
URL:https://www.wikf.be/event/examentraining-zonder-partners-11/
LOCATION:Honbu Dojo: sporthal De Kimpel\, Eikenlaan 25\, Bilzen\, 3740
CATEGORIES:FR,NL
END:VEVENT
BEGIN:VEVENT
DTSTART;VALUE=DATE:20250927
DTEND;VALUE=DATE:20250928
DTSTAMP:20260421T184438
CREATED:20250325T145424Z
LAST-MODIFIED:20250325T145424Z
UID:1085-1758931200-1759017599@www.wikf.be
SUMMARY:Open WIKF-stage Vlaams-Brabant
DESCRIPTION:Stage WIKF en Brabant-Flamand
URL:https://www.wikf.be/event/open-wikf-stage-vlaams-brabant/
END:VEVENT
BEGIN:VEVENT
DTSTART;TZID=Europe/Brussels:20250920T100000
DTEND;TZID=Europe/Brussels:20250920T113000
DTSTAMP:20260421T184438
CREATED:20250328T125021Z
LAST-MODIFIED:20250328T125021Z
UID:1099-1758362400-1758367800@www.wikf.be
SUMMARY:Examentraining (met partners)
DESCRIPTION:Entraînement pour les examens (avec partenaire)
URL:https://www.wikf.be/event/examentraining-met-partners-10/
LOCATION:Honbu Dojo: sporthal De Kimpel\, Eikenlaan 25\, Bilzen\, 3740
CATEGORIES:FR,NL
END:VEVENT
BEGIN:VEVENT
DTSTART;TZID=Europe/Brussels:20250914T090000
DTEND;TZID=Europe/Brussels:20250914T170000
DTSTAMP:20260421T184438
CREATED:20250325T144906Z
LAST-MODIFIED:20250325T145709Z
UID:1083-1757840400-1757869200@www.wikf.be
SUMMARY:Beker van Hoeselt
DESCRIPTION:Coupe de Hoeselt
URL:https://www.wikf.be/event/beker-van-hoeselt/
LOCATION:Sporthal Ter Kommen\, Europalaan 2\, Blizen-Hoeselt\, Belgium
END:VEVENT
BEGIN:VEVENT
DTSTART;TZID=Europe/Brussels:20250913T140000
DTEND;TZID=Europe/Brussels:20250913T170000
DTSTAMP:20260421T184438
CREATED:20250302T162257Z
LAST-MODIFIED:20250422T095443Z
UID:1053-1757772000-1757782800@www.wikf.be
SUMMARY:Nationale WIKF-training
DESCRIPTION:Entraînement national WIKF (kata\, kumite\, tanto dori)
URL:https://www.wikf.be/event/nationale-wikf-training/
LOCATION:Sporthal Eksel\, Dennenstraat 8\, Hechtel-Eksel\, 3940
END:VEVENT
BEGIN:VEVENT
DTSTART;TZID=Europe/Brussels:20250913T100000
DTEND;TZID=Europe/Brussels:20250913T113000
DTSTAMP:20260421T184438
CREATED:20250328T125445Z
LAST-MODIFIED:20250328T125445Z
UID:1105-1757757600-1757763000@www.wikf.be
SUMMARY:examentraining (zonder partners)
DESCRIPTION:Entraînement pour les examens (sans partenaire)
URL:https://www.wikf.be/event/examentraining-zonder-partners-10/
LOCATION:Honbu Dojo: sporthal De Kimpel\, Eikenlaan 25\, Bilzen\, 3740
CATEGORIES:FR,NL
END:VEVENT
BEGIN:VEVENT
DTSTART;TZID=Europe/Brussels:20250906T100000
DTEND;TZID=Europe/Brussels:20250906T113000
DTSTAMP:20260421T184438
CREATED:20250328T124827Z
LAST-MODIFIED:20250328T124827Z
UID:1097-1757152800-1757158200@www.wikf.be
SUMMARY:Examentraining (met partners)
DESCRIPTION:Entraînement pour les examens (avec partenaire)
URL:https://www.wikf.be/event/examentraining-met-partners-8/
LOCATION:Honbu Dojo: sporthal De Kimpel\, Eikenlaan 25\, Bilzen\, 3740
CATEGORIES:FR,NL
END:VEVENT
BEGIN:VEVENT
DTSTART;TZID=Europe/Brussels:20250621T103000
DTEND;TZID=Europe/Brussels:20250621T153000
DTSTAMP:20260421T184438
CREATED:20250302T162538Z
LAST-MODIFIED:20250620T205909Z
UID:1055-1750501800-1750519800@www.wikf.be
SUMMARY:Open WIKF-stage Eksel
DESCRIPTION:Stage WIKF à Eksel
URL:https://www.wikf.be/event/open-wikf-stage-eksel/
LOCATION:Sporthal Eksel\, Dennenstraat 8\, Hechtel-Eksel\, 3940
END:VEVENT
BEGIN:VEVENT
DTSTART;TZID=Europe/Brussels:20250531T100000
DTEND;TZID=Europe/Brussels:20250531T113000
DTSTAMP:20260421T184438
CREATED:20241124T150803Z
LAST-MODIFIED:20241124T150803Z
UID:809-1748685600-1748691000@www.wikf.be
SUMMARY:Examentraining (met partners)
DESCRIPTION:Entraînement pour les examens (avec partenaire)
URL:https://www.wikf.be/event/examentraining-met-partners-9/
LOCATION:Honbu Dojo: sporthal De Kimpel\, Eikenlaan 25\, Bilzen\, 3740
END:VEVENT
BEGIN:VEVENT
DTSTART;TZID=Europe/Brussels:20250524T100000
DTEND;TZID=Europe/Brussels:20250524T120000
DTSTAMP:20260421T184438
CREATED:20241124T150716Z
LAST-MODIFIED:20250422T094618Z
UID:807-1748080800-1748088000@www.wikf.be
SUMMARY:Training voor dangraden
DESCRIPTION:Entraînement pour les grades Dan
URL:https://www.wikf.be/event/training-voor-dangraden-3/
LOCATION:Sporthal Eksel\, Dennenstraat 8\, Hechtel-Eksel\, 3940
END:VEVENT
BEGIN:VEVENT
DTSTART;TZID=Europe/Brussels:20250517T140000
DTEND;TZID=Europe/Brussels:20250517T170000
DTSTAMP:20260421T184438
CREATED:20250302T162109Z
LAST-MODIFIED:20250422T095519Z
UID:1050-1747490400-1747501200@www.wikf.be
SUMMARY:Nationale WIKF-kumitetraining
DESCRIPTION:Entraînement national WIKF (kumite)
URL:https://www.wikf.be/event/nationale-wikf-kumitetraining-4/
LOCATION:Sporthal Ter Kommen\, Europalaan 2\, Blizen-Hoeselt\, Belgium
END:VEVENT
BEGIN:VEVENT
DTSTART;TZID=Europe/Brussels:20250517T100000
DTEND;TZID=Europe/Brussels:20250517T113000
DTSTAMP:20260421T184438
CREATED:20241124T150629Z
LAST-MODIFIED:20250422T094510Z
UID:805-1747476000-1747481400@www.wikf.be
SUMMARY:Examentraining (met partners)
DESCRIPTION:Entraînement pour les examens (avec partenaire)
URL:https://www.wikf.be/event/examentraining-zonder-partners-9/
LOCATION:Honbu Dojo: sporthal De Kimpel\, Eikenlaan 25\, Bilzen\, 3740
END:VEVENT
BEGIN:VEVENT
DTSTART;TZID=Europe/Brussels:20250503T100000
DTEND;TZID=Europe/Brussels:20250503T113000
DTSTAMP:20260421T184438
CREATED:20241124T150333Z
LAST-MODIFIED:20241124T150333Z
UID:801-1746266400-1746271800@www.wikf.be
SUMMARY:Examentraining (zonder partners)
DESCRIPTION:Entraînement pour les examens (sans partenaire)
URL:https://www.wikf.be/event/examentraining-zonder-partners-8/
LOCATION:Honbu Dojo: sporthal De Kimpel\, Eikenlaan 25\, Bilzen\, 3740
END:VEVENT
BEGIN:VEVENT
DTSTART;TZID=Europe/Brussels:20250426T100000
DTEND;TZID=Europe/Brussels:20250426T113000
DTSTAMP:20260421T184438
CREATED:20241124T150200Z
LAST-MODIFIED:20241124T150200Z
UID:799-1745661600-1745667000@www.wikf.be
SUMMARY:Examentraining (met partners)
DESCRIPTION:Entraînement pour les examens (avec partenaire)
URL:https://www.wikf.be/event/examentraining-met-partners-7/
LOCATION:Honbu Dojo: sporthal De Kimpel\, Eikenlaan 25\, Bilzen\, 3740
END:VEVENT
BEGIN:VEVENT
DTSTART;TZID=Europe/Brussels:20250419T100000
DTEND;TZID=Europe/Brussels:20250419T113000
DTSTAMP:20260421T184438
CREATED:20241124T150114Z
LAST-MODIFIED:20241124T150114Z
UID:797-1745056800-1745062200@www.wikf.be
SUMMARY:Examentraining (zonder partners)
DESCRIPTION:Entraînement pour les examens (sans partenaire)
URL:https://www.wikf.be/event/examentraining-zonder-partners-7/
LOCATION:Honbu Dojo: sporthal De Kimpel\, Eikenlaan 25\, Bilzen\, 3740
END:VEVENT
BEGIN:VEVENT
DTSTART;TZID=Europe/Brussels:20250412T100000
DTEND;TZID=Europe/Brussels:20250412T113000
DTSTAMP:20260421T184438
CREATED:20241124T150027Z
LAST-MODIFIED:20241124T150027Z
UID:795-1744452000-1744457400@www.wikf.be
SUMMARY:Examentraining (met partners)
DESCRIPTION:Entraînement pour les examens (avec partenaire)
URL:https://www.wikf.be/event/examentraining-met-partners-6/
LOCATION:Honbu Dojo: sporthal De Kimpel\, Eikenlaan 25\, Bilzen\, 3740
END:VEVENT
BEGIN:VEVENT
DTSTART;TZID=Europe/Brussels:20250405T100000
DTEND;TZID=Europe/Brussels:20250405T113000
DTSTAMP:20260421T184438
CREATED:20241124T145855Z
LAST-MODIFIED:20241124T145855Z
UID:793-1743847200-1743852600@www.wikf.be
SUMMARY:Examentraining (zonder partners)
DESCRIPTION:Entraînement pour les examens (sans partenaire)
URL:https://www.wikf.be/event/examentraining-zonder-partners-6/
LOCATION:Honbu Dojo: sporthal De Kimpel\, Eikenlaan 25\, Bilzen\, 3740
END:VEVENT
BEGIN:VEVENT
DTSTART;TZID=Europe/Brussels:20250329T100000
DTEND;TZID=Europe/Brussels:20250329T113000
DTSTAMP:20260421T184438
CREATED:20241124T145810Z
LAST-MODIFIED:20241124T145810Z
UID:791-1743242400-1743247800@www.wikf.be
SUMMARY:Examentraining (met partners)
DESCRIPTION:Entraînement pour les examens (avec partenaire)
URL:https://www.wikf.be/event/examentraining-met-partners-5/
LOCATION:Honbu Dojo: sporthal De Kimpel\, Eikenlaan 25\, Bilzen\, 3740
END:VEVENT
BEGIN:VEVENT
DTSTART;TZID=Europe/Brussels:20250322T140000
DTEND;TZID=Europe/Brussels:20250322T160000
DTSTAMP:20260421T184439
CREATED:20250302T161840Z
LAST-MODIFIED:20250302T161923Z
UID:1047-1742652000-1742659200@www.wikf.be
SUMMARY:Nationale WIKF-kumitetraining
DESCRIPTION:Entraînement national WIKF (kumite)
URL:https://www.wikf.be/event/nationale-wikf-kumitetraining-3/
LOCATION:Sporthal De Passant\, Sint-Truidensesteenweg 1\, Zoutleeuw\, 3440
END:VEVENT
BEGIN:VEVENT
DTSTART;TZID=Europe/Brussels:20250322T100000
DTEND;TZID=Europe/Brussels:20250322T113000
DTSTAMP:20260421T184439
CREATED:20241124T145713Z
LAST-MODIFIED:20241124T145713Z
UID:789-1742637600-1742643000@www.wikf.be
SUMMARY:Examentraining (zonder partners)
DESCRIPTION:Entraînement pour les examens (sans partenaire)
URL:https://www.wikf.be/event/examentraining-zonder-partners-5/
LOCATION:Honbu Dojo: sporthal De Kimpel\, Eikenlaan 25\, Bilzen\, 3740
END:VEVENT
BEGIN:VEVENT
DTSTART;VALUE=DATE:20250314
DTEND;VALUE=DATE:20250317
DTSTAMP:20260421T184439
CREATED:20241026T095618Z
LAST-MODIFIED:20250127T185007Z
UID:95-1741910400-1742169599@www.wikf.be
SUMMARY:WIKF-stage Mathieu Beysen en Angelos Gorgas
DESCRIPTION:Stage WIKF Mathieu Beysen et Angelos Gorgas \n  
URL:https://www.wikf.be/event/wikf-stage-mathieu-beysen-en-angelos-gorgas/
END:VEVENT
END:VCALENDAR