BEGIN:VCALENDAR
VERSION:2.0
PRODID:-//WIKF Belgium - ECPv6.15.19//NONSGML v1.0//EN
CALSCALE:GREGORIAN
METHOD:PUBLISH
X-ORIGINAL-URL:https://www.wikf.be
X-WR-CALDESC:Evenementen voor WIKF Belgium
REFRESH-INTERVAL;VALUE=DURATION:PT1H
X-Robots-Tag:noindex
X-PUBLISHED-TTL:PT1H
BEGIN:VTIMEZONE
TZID:Europe/Brussels
BEGIN:DAYLIGHT
TZOFFSETFROM:+0100
TZOFFSETTO:+0200
TZNAME:CEST
DTSTART:20250330T010000
END:DAYLIGHT
BEGIN:STANDARD
TZOFFSETFROM:+0200
TZOFFSETTO:+0100
TZNAME:CET
DTSTART:20251026T010000
END:STANDARD
BEGIN:DAYLIGHT
TZOFFSETFROM:+0100
TZOFFSETTO:+0200
TZNAME:CEST
DTSTART:20260329T010000
END:DAYLIGHT
BEGIN:STANDARD
TZOFFSETFROM:+0200
TZOFFSETTO:+0100
TZNAME:CET
DTSTART:20261025T010000
END:STANDARD
BEGIN:DAYLIGHT
TZOFFSETFROM:+0100
TZOFFSETTO:+0200
TZNAME:CEST
DTSTART:20270328T010000
END:DAYLIGHT
BEGIN:STANDARD
TZOFFSETFROM:+0200
TZOFFSETTO:+0100
TZNAME:CET
DTSTART:20271031T010000
END:STANDARD
END:VTIMEZONE
BEGIN:VEVENT
DTSTART;VALUE=DATE:20260424
DTEND;VALUE=DATE:20260427
DTSTAMP:20260419T152106
CREATED:20250325T150037Z
LAST-MODIFIED:20260131T191646Z
UID:1092-1776988800-1777247999@www.wikf.be
SUMMARY:WIKF-stage Angelos Gorgas
DESCRIPTION:Stage WIKF avec Angelos Gorgas
URL:https://www.wikf.be/event/wikf-stage-angelos-gorgas/
LOCATION:Sporthal Eksel\, Dennenstraat 8\, Hechtel-Eksel\, 3940
END:VEVENT
BEGIN:VEVENT
DTSTART;TZID=Europe/Brussels:20260502T100000
DTEND;TZID=Europe/Brussels:20260502T113000
DTSTAMP:20260419T152106
CREATED:20251207T122741Z
LAST-MODIFIED:20260408T091113Z
UID:1227-1777716000-1777721400@www.wikf.be
SUMMARY:Examentraining (met partner)
DESCRIPTION:Entraînement pour les examens (avec partenaire)
URL:https://www.wikf.be/event/examentraining-met-partner-6/
LOCATION:Honbu Dojo: sporthal De Kimpel\, Eikenlaan 25\, Bilzen\, 3740
END:VEVENT
BEGIN:VEVENT
DTSTART;TZID=Europe/Brussels:20260509T100000
DTEND;TZID=Europe/Brussels:20260509T113000
DTSTAMP:20260419T152106
CREATED:20251207T122832Z
LAST-MODIFIED:20260408T091727Z
UID:1229-1778320800-1778326200@www.wikf.be
SUMMARY:Examentraining (zonder partner)
DESCRIPTION:Entraînement pour les examens (sans partenaire)
URL:https://www.wikf.be/event/examentraining-zonder-partner-6/
LOCATION:Honbu Dojo: sporthal De Kimpel\, Eikenlaan 25\, Bilzen\, 3740
END:VEVENT
BEGIN:VEVENT
DTSTART;TZID=Europe/Brussels:20260509T140000
DTEND;TZID=Europe/Brussels:20260509T170000
DTSTAMP:20260419T152106
CREATED:20250422T095140Z
LAST-MODIFIED:20250922T184416Z
UID:1128-1778335200-1778346000@www.wikf.be
SUMMARY:Nationale WIKF-training
DESCRIPTION:Entraînement national WIKF (kata\, kumite\, tanto dori)
URL:https://www.wikf.be/event/nationale-wikf-training-4/
END:VEVENT
BEGIN:VEVENT
DTSTART;TZID=Europe/Brussels:20260516T100000
DTEND;TZID=Europe/Brussels:20260516T113000
DTSTAMP:20260419T152106
CREATED:20251207T122919Z
LAST-MODIFIED:20260408T091837Z
UID:1231-1778925600-1778931000@www.wikf.be
SUMMARY:Examentraining (met partner)
DESCRIPTION:Entraînement pour les examens (avec partenaire)
URL:https://www.wikf.be/event/examentraining-met-partner-7/
LOCATION:Honbu Dojo: sporthal De Kimpel\, Eikenlaan 25\, Bilzen\, 3740
END:VEVENT
BEGIN:VEVENT
DTSTART;TZID=Europe/Brussels:20260523T100000
DTEND;TZID=Europe/Brussels:20260523T113000
DTSTAMP:20260419T152106
CREATED:20251207T123012Z
LAST-MODIFIED:20260408T092016Z
UID:1233-1779530400-1779535800@www.wikf.be
SUMMARY:Examentraining (zonder partner)
DESCRIPTION:Entraînement pour les examens (sans partenaire)
URL:https://www.wikf.be/event/examentraining-zonder-partner-7/
LOCATION:Honbu Dojo: sporthal De Kimpel\, Eikenlaan 25\, Bilzen\, 3740
END:VEVENT
BEGIN:VEVENT
DTSTART;TZID=Europe/Brussels:20260530T100000
DTEND;TZID=Europe/Brussels:20260530T113000
DTSTAMP:20260419T152106
CREATED:20251207T123108Z
LAST-MODIFIED:20260117T163512Z
UID:1235-1780135200-1780140600@www.wikf.be
SUMMARY:Training voor dangraden
DESCRIPTION:Entraînement pour les grades Dan
URL:https://www.wikf.be/event/examentraining-met-partner-8/
LOCATION:Honbu Dojo: sporthal De Kimpel\, Eikenlaan 25\, Bilzen\, 3740
END:VEVENT
BEGIN:VEVENT
DTSTART;VALUE=DATE:20260613
DTEND;VALUE=DATE:20260615
DTSTAMP:20260419T152106
CREATED:20251207T123821Z
LAST-MODIFIED:20251207T123821Z
UID:1241-1781308800-1781481599@www.wikf.be
SUMMARY:Leaders Course 2026 Invitation at Yasuragi in Stockholm
DESCRIPTION:
URL:https://www.wikf.be/event/leaders-course-2026-invitation-at-yasuragi-in-stockholm/
END:VEVENT
BEGIN:VEVENT
DTSTART;VALUE=DATE:20261021
DTEND;VALUE=DATE:20261026
DTSTAMP:20260419T152106
CREATED:20250325T150150Z
LAST-MODIFIED:20251215T184543Z
UID:1094-1792540800-1792972799@www.wikf.be
SUMMARY:WK WIKF Griekenland
DESCRIPTION:Klik hier voor meer info.
URL:https://www.wikf.be/event/wk-wikf-griekenland/
END:VEVENT
END:VCALENDAR