BEGIN:VCALENDAR
VERSION:2.0
PRODID:-//WIKF Belgium - ECPv6.15.19//NONSGML v1.0//EN
CALSCALE:GREGORIAN
METHOD:PUBLISH
X-ORIGINAL-URL:https://www.wikf.be
X-WR-CALDESC:Evenementen voor WIKF Belgium
REFRESH-INTERVAL;VALUE=DURATION:PT1H
X-Robots-Tag:noindex
X-PUBLISHED-TTL:PT1H
BEGIN:VTIMEZONE
TZID:Europe/Brussels
BEGIN:DAYLIGHT
TZOFFSETFROM:+0100
TZOFFSETTO:+0200
TZNAME:CEST
DTSTART:20250330T010000
END:DAYLIGHT
BEGIN:STANDARD
TZOFFSETFROM:+0200
TZOFFSETTO:+0100
TZNAME:CET
DTSTART:20251026T010000
END:STANDARD
BEGIN:DAYLIGHT
TZOFFSETFROM:+0100
TZOFFSETTO:+0200
TZNAME:CEST
DTSTART:20260329T010000
END:DAYLIGHT
BEGIN:STANDARD
TZOFFSETFROM:+0200
TZOFFSETTO:+0100
TZNAME:CET
DTSTART:20261025T010000
END:STANDARD
BEGIN:DAYLIGHT
TZOFFSETFROM:+0100
TZOFFSETTO:+0200
TZNAME:CEST
DTSTART:20270328T010000
END:DAYLIGHT
BEGIN:STANDARD
TZOFFSETFROM:+0200
TZOFFSETTO:+0100
TZNAME:CET
DTSTART:20271031T010000
END:STANDARD
END:VTIMEZONE
BEGIN:VEVENT
DTSTART;TZID=Europe/Brussels:20260530T100000
DTEND;TZID=Europe/Brussels:20260530T113000
DTSTAMP:20260421T113407
CREATED:20251207T123108Z
LAST-MODIFIED:20260117T163512Z
UID:1235-1780135200-1780140600@www.wikf.be
SUMMARY:Training voor dangraden
DESCRIPTION:Entraînement pour les grades Dan
URL:https://www.wikf.be/event/examentraining-met-partner-8/
LOCATION:Honbu Dojo: sporthal De Kimpel\, Eikenlaan 25\, Bilzen\, 3740
END:VEVENT
END:VCALENDAR